BEGIN:VCALENDAR
VERSION:2.0
PRODID:-//Arden Courts Memory Care  - ECPv6.15.20//NONSGML v1.0//EN
CALSCALE:GREGORIAN
METHOD:PUBLISH
X-ORIGINAL-URL:https://www.arden-courts.com
X-WR-CALDESC:Events for Arden Courts Memory Care 
REFRESH-INTERVAL;VALUE=DURATION:PT1H
X-Robots-Tag:noindex
X-PUBLISHED-TTL:PT1H
BEGIN:VTIMEZONE
TZID:America/New_York
BEGIN:DAYLIGHT
TZOFFSETFROM:-0500
TZOFFSETTO:-0400
TZNAME:EDT
DTSTART:20250309T070000
END:DAYLIGHT
BEGIN:STANDARD
TZOFFSETFROM:-0400
TZOFFSETTO:-0500
TZNAME:EST
DTSTART:20251102T060000
END:STANDARD
BEGIN:DAYLIGHT
TZOFFSETFROM:-0500
TZOFFSETTO:-0400
TZNAME:EDT
DTSTART:20260308T070000
END:DAYLIGHT
BEGIN:STANDARD
TZOFFSETFROM:-0400
TZOFFSETTO:-0500
TZNAME:EST
DTSTART:20261101T060000
END:STANDARD
BEGIN:DAYLIGHT
TZOFFSETFROM:-0500
TZOFFSETTO:-0400
TZNAME:EDT
DTSTART:20270314T070000
END:DAYLIGHT
BEGIN:STANDARD
TZOFFSETFROM:-0400
TZOFFSETTO:-0500
TZNAME:EST
DTSTART:20271107T060000
END:STANDARD
BEGIN:DAYLIGHT
TZOFFSETFROM:-0500
TZOFFSETTO:-0400
TZNAME:EDT
DTSTART:20280312T070000
END:DAYLIGHT
BEGIN:STANDARD
TZOFFSETFROM:-0400
TZOFFSETTO:-0500
TZNAME:EST
DTSTART:20281105T060000
END:STANDARD
BEGIN:DAYLIGHT
TZOFFSETFROM:-0500
TZOFFSETTO:-0400
TZNAME:EDT
DTSTART:20290311T070000
END:DAYLIGHT
BEGIN:STANDARD
TZOFFSETFROM:-0400
TZOFFSETTO:-0500
TZNAME:EST
DTSTART:20291104T060000
END:STANDARD
END:VTIMEZONE
BEGIN:VEVENT
DTSTART;TZID=America/New_York:20260521T120000
DTEND;TZID=America/New_York:20260521T130000
DTSTAMP:20260421T002700
CREATED:20260306T015408Z
LAST-MODIFIED:20260306T015408Z
UID:10002218-1779364800-1779368400@www.arden-courts.com
SUMMARY:Arden Courts at Anderson Township: Dementia Support Group
DESCRIPTION:Support Group for Caregivers and Families of loved ones with dementia \nEvent Location: Ardend Courts\n6870 Clough Pike\, Cincinnati\, OH 45244 \nRSVP: Alicia Bauer abauer@arden-courts.com
URL:https://www.arden-courts.com/event/arden-courts-at-anderson-township-dementia-support-group-2-2/2026-05-21/
CATEGORIES:Anderson Township
END:VEVENT
BEGIN:VEVENT
DTSTART;TZID=America/New_York:20260618T120000
DTEND;TZID=America/New_York:20260618T130000
DTSTAMP:20260421T002700
CREATED:20260306T015408Z
LAST-MODIFIED:20260306T015408Z
UID:10002219-1781784000-1781787600@www.arden-courts.com
SUMMARY:Arden Courts at Anderson Township: Dementia Support Group
DESCRIPTION:Support Group for Caregivers and Families of loved ones with dementia \nEvent Location: Ardend Courts\n6870 Clough Pike\, Cincinnati\, OH 45244 \nRSVP: Alicia Bauer abauer@arden-courts.com
URL:https://www.arden-courts.com/event/arden-courts-at-anderson-township-dementia-support-group-2-2/2026-06-18/
CATEGORIES:Anderson Township
END:VEVENT
BEGIN:VEVENT
DTSTART;TZID=America/New_York:20260716T120000
DTEND;TZID=America/New_York:20260716T130000
DTSTAMP:20260421T002700
CREATED:20260306T015408Z
LAST-MODIFIED:20260306T015408Z
UID:10002220-1784203200-1784206800@www.arden-courts.com
SUMMARY:Arden Courts at Anderson Township: Dementia Support Group
DESCRIPTION:Support Group for Caregivers and Families of loved ones with dementia \nEvent Location: Ardend Courts\n6870 Clough Pike\, Cincinnati\, OH 45244 \nRSVP: Alicia Bauer abauer@arden-courts.com
URL:https://www.arden-courts.com/event/arden-courts-at-anderson-township-dementia-support-group-2-2/2026-07-16/
CATEGORIES:Anderson Township
END:VEVENT
BEGIN:VEVENT
DTSTART;TZID=America/New_York:20260820T120000
DTEND;TZID=America/New_York:20260820T130000
DTSTAMP:20260421T002700
CREATED:20260306T015408Z
LAST-MODIFIED:20260306T015408Z
UID:10002221-1787227200-1787230800@www.arden-courts.com
SUMMARY:Arden Courts at Anderson Township: Dementia Support Group
DESCRIPTION:Support Group for Caregivers and Families of loved ones with dementia \nEvent Location: Ardend Courts\n6870 Clough Pike\, Cincinnati\, OH 45244 \nRSVP: Alicia Bauer abauer@arden-courts.com
URL:https://www.arden-courts.com/event/arden-courts-at-anderson-township-dementia-support-group-2-2/2026-08-20/
CATEGORIES:Anderson Township
END:VEVENT
BEGIN:VEVENT
DTSTART;TZID=America/New_York:20260917T120000
DTEND;TZID=America/New_York:20260917T130000
DTSTAMP:20260421T002700
CREATED:20260306T015408Z
LAST-MODIFIED:20260306T015408Z
UID:10002222-1789646400-1789650000@www.arden-courts.com
SUMMARY:Arden Courts at Anderson Township: Dementia Support Group
DESCRIPTION:Support Group for Caregivers and Families of loved ones with dementia \nEvent Location: Ardend Courts\n6870 Clough Pike\, Cincinnati\, OH 45244 \nRSVP: Alicia Bauer abauer@arden-courts.com
URL:https://www.arden-courts.com/event/arden-courts-at-anderson-township-dementia-support-group-2-2/2026-09-17/
CATEGORIES:Anderson Township
END:VEVENT
BEGIN:VEVENT
DTSTART;TZID=America/New_York:20261015T120000
DTEND;TZID=America/New_York:20261015T130000
DTSTAMP:20260421T002700
CREATED:20260306T015408Z
LAST-MODIFIED:20260306T015408Z
UID:10002223-1792065600-1792069200@www.arden-courts.com
SUMMARY:Arden Courts at Anderson Township: Dementia Support Group
DESCRIPTION:Support Group for Caregivers and Families of loved ones with dementia \nEvent Location: Ardend Courts\n6870 Clough Pike\, Cincinnati\, OH 45244 \nRSVP: Alicia Bauer abauer@arden-courts.com
URL:https://www.arden-courts.com/event/arden-courts-at-anderson-township-dementia-support-group-2-2/2026-10-15/
CATEGORIES:Anderson Township
END:VEVENT
BEGIN:VEVENT
DTSTART;TZID=America/New_York:20261119T120000
DTEND;TZID=America/New_York:20261119T130000
DTSTAMP:20260421T002700
CREATED:20260306T015408Z
LAST-MODIFIED:20260306T015408Z
UID:10002224-1795089600-1795093200@www.arden-courts.com
SUMMARY:Arden Courts at Anderson Township: Dementia Support Group
DESCRIPTION:Support Group for Caregivers and Families of loved ones with dementia \nEvent Location: Ardend Courts\n6870 Clough Pike\, Cincinnati\, OH 45244 \nRSVP: Alicia Bauer abauer@arden-courts.com
URL:https://www.arden-courts.com/event/arden-courts-at-anderson-township-dementia-support-group-2-2/2026-11-19/
CATEGORIES:Anderson Township
END:VEVENT
BEGIN:VEVENT
DTSTART;TZID=America/New_York:20261217T120000
DTEND;TZID=America/New_York:20261217T130000
DTSTAMP:20260421T002700
CREATED:20260306T015408Z
LAST-MODIFIED:20260306T015408Z
UID:10002225-1797508800-1797512400@www.arden-courts.com
SUMMARY:Arden Courts at Anderson Township: Dementia Support Group
DESCRIPTION:Support Group for Caregivers and Families of loved ones with dementia \nEvent Location: Ardend Courts\n6870 Clough Pike\, Cincinnati\, OH 45244 \nRSVP: Alicia Bauer abauer@arden-courts.com
URL:https://www.arden-courts.com/event/arden-courts-at-anderson-township-dementia-support-group-2-2/2026-12-17/
CATEGORIES:Anderson Township
END:VEVENT
BEGIN:VEVENT
DTSTART;TZID=America/New_York:20270121T120000
DTEND;TZID=America/New_York:20270121T130000
DTSTAMP:20260421T002700
CREATED:20260306T015408Z
LAST-MODIFIED:20260306T015408Z
UID:10002226-1800532800-1800536400@www.arden-courts.com
SUMMARY:Arden Courts at Anderson Township: Dementia Support Group
DESCRIPTION:Support Group for Caregivers and Families of loved ones with dementia \nEvent Location: Ardend Courts\n6870 Clough Pike\, Cincinnati\, OH 45244 \nRSVP: Alicia Bauer abauer@arden-courts.com
URL:https://www.arden-courts.com/event/arden-courts-at-anderson-township-dementia-support-group-2-2/2027-01-21/
CATEGORIES:Anderson Township
END:VEVENT
BEGIN:VEVENT
DTSTART;TZID=America/New_York:20270218T120000
DTEND;TZID=America/New_York:20270218T130000
DTSTAMP:20260421T002700
CREATED:20260306T015408Z
LAST-MODIFIED:20260306T015408Z
UID:10002227-1802952000-1802955600@www.arden-courts.com
SUMMARY:Arden Courts at Anderson Township: Dementia Support Group
DESCRIPTION:Support Group for Caregivers and Families of loved ones with dementia \nEvent Location: Ardend Courts\n6870 Clough Pike\, Cincinnati\, OH 45244 \nRSVP: Alicia Bauer abauer@arden-courts.com
URL:https://www.arden-courts.com/event/arden-courts-at-anderson-township-dementia-support-group-2-2/2027-02-18/
CATEGORIES:Anderson Township
END:VEVENT
BEGIN:VEVENT
DTSTART;TZID=America/New_York:20270318T120000
DTEND;TZID=America/New_York:20270318T130000
DTSTAMP:20260421T002700
CREATED:20260306T015408Z
LAST-MODIFIED:20260306T015408Z
UID:10002228-1805371200-1805374800@www.arden-courts.com
SUMMARY:Arden Courts at Anderson Township: Dementia Support Group
DESCRIPTION:Support Group for Caregivers and Families of loved ones with dementia \nEvent Location: Ardend Courts\n6870 Clough Pike\, Cincinnati\, OH 45244 \nRSVP: Alicia Bauer abauer@arden-courts.com
URL:https://www.arden-courts.com/event/arden-courts-at-anderson-township-dementia-support-group-2-2/2027-03-18/
CATEGORIES:Anderson Township
END:VEVENT
BEGIN:VEVENT
DTSTART;TZID=America/New_York:20270415T120000
DTEND;TZID=America/New_York:20270415T130000
DTSTAMP:20260421T002700
CREATED:20260306T015408Z
LAST-MODIFIED:20260306T015408Z
UID:10002229-1807790400-1807794000@www.arden-courts.com
SUMMARY:Arden Courts at Anderson Township: Dementia Support Group
DESCRIPTION:Support Group for Caregivers and Families of loved ones with dementia \nEvent Location: Ardend Courts\n6870 Clough Pike\, Cincinnati\, OH 45244 \nRSVP: Alicia Bauer abauer@arden-courts.com
URL:https://www.arden-courts.com/event/arden-courts-at-anderson-township-dementia-support-group-2-2/2027-04-15/
CATEGORIES:Anderson Township
END:VEVENT
BEGIN:VEVENT
DTSTART;TZID=America/New_York:20270520T120000
DTEND;TZID=America/New_York:20270520T130000
DTSTAMP:20260421T002700
CREATED:20260306T015408Z
LAST-MODIFIED:20260306T015408Z
UID:10002230-1810814400-1810818000@www.arden-courts.com
SUMMARY:Arden Courts at Anderson Township: Dementia Support Group
DESCRIPTION:Support Group for Caregivers and Families of loved ones with dementia \nEvent Location: Ardend Courts\n6870 Clough Pike\, Cincinnati\, OH 45244 \nRSVP: Alicia Bauer abauer@arden-courts.com
URL:https://www.arden-courts.com/event/arden-courts-at-anderson-township-dementia-support-group-2-2/2027-05-20/
CATEGORIES:Anderson Township
END:VEVENT
BEGIN:VEVENT
DTSTART;TZID=America/New_York:20270617T120000
DTEND;TZID=America/New_York:20270617T130000
DTSTAMP:20260421T002700
CREATED:20260306T015408Z
LAST-MODIFIED:20260306T015408Z
UID:10002231-1813233600-1813237200@www.arden-courts.com
SUMMARY:Arden Courts at Anderson Township: Dementia Support Group
DESCRIPTION:Support Group for Caregivers and Families of loved ones with dementia \nEvent Location: Ardend Courts\n6870 Clough Pike\, Cincinnati\, OH 45244 \nRSVP: Alicia Bauer abauer@arden-courts.com
URL:https://www.arden-courts.com/event/arden-courts-at-anderson-township-dementia-support-group-2-2/2027-06-17/
CATEGORIES:Anderson Township
END:VEVENT
BEGIN:VEVENT
DTSTART;TZID=America/New_York:20270715T120000
DTEND;TZID=America/New_York:20270715T130000
DTSTAMP:20260421T002700
CREATED:20260306T015408Z
LAST-MODIFIED:20260306T015408Z
UID:10002232-1815652800-1815656400@www.arden-courts.com
SUMMARY:Arden Courts at Anderson Township: Dementia Support Group
DESCRIPTION:Support Group for Caregivers and Families of loved ones with dementia \nEvent Location: Ardend Courts\n6870 Clough Pike\, Cincinnati\, OH 45244 \nRSVP: Alicia Bauer abauer@arden-courts.com
URL:https://www.arden-courts.com/event/arden-courts-at-anderson-township-dementia-support-group-2-2/2027-07-15/
CATEGORIES:Anderson Township
END:VEVENT
BEGIN:VEVENT
DTSTART;TZID=America/New_York:20270819T120000
DTEND;TZID=America/New_York:20270819T130000
DTSTAMP:20260421T002700
CREATED:20260306T015408Z
LAST-MODIFIED:20260306T015408Z
UID:10002233-1818676800-1818680400@www.arden-courts.com
SUMMARY:Arden Courts at Anderson Township: Dementia Support Group
DESCRIPTION:Support Group for Caregivers and Families of loved ones with dementia \nEvent Location: Ardend Courts\n6870 Clough Pike\, Cincinnati\, OH 45244 \nRSVP: Alicia Bauer abauer@arden-courts.com
URL:https://www.arden-courts.com/event/arden-courts-at-anderson-township-dementia-support-group-2-2/2027-08-19/
CATEGORIES:Anderson Township
END:VEVENT
BEGIN:VEVENT
DTSTART;TZID=America/New_York:20270916T120000
DTEND;TZID=America/New_York:20270916T130000
DTSTAMP:20260421T002700
CREATED:20260306T015408Z
LAST-MODIFIED:20260306T015408Z
UID:10002234-1821096000-1821099600@www.arden-courts.com
SUMMARY:Arden Courts at Anderson Township: Dementia Support Group
DESCRIPTION:Support Group for Caregivers and Families of loved ones with dementia \nEvent Location: Ardend Courts\n6870 Clough Pike\, Cincinnati\, OH 45244 \nRSVP: Alicia Bauer abauer@arden-courts.com
URL:https://www.arden-courts.com/event/arden-courts-at-anderson-township-dementia-support-group-2-2/2027-09-16/
CATEGORIES:Anderson Township
END:VEVENT
BEGIN:VEVENT
DTSTART;TZID=America/New_York:20271021T120000
DTEND;TZID=America/New_York:20271021T130000
DTSTAMP:20260421T002700
CREATED:20260306T015408Z
LAST-MODIFIED:20260306T015408Z
UID:10002235-1824120000-1824123600@www.arden-courts.com
SUMMARY:Arden Courts at Anderson Township: Dementia Support Group
DESCRIPTION:Support Group for Caregivers and Families of loved ones with dementia \nEvent Location: Ardend Courts\n6870 Clough Pike\, Cincinnati\, OH 45244 \nRSVP: Alicia Bauer abauer@arden-courts.com
URL:https://www.arden-courts.com/event/arden-courts-at-anderson-township-dementia-support-group-2-2/2027-10-21/
CATEGORIES:Anderson Township
END:VEVENT
BEGIN:VEVENT
DTSTART;TZID=America/New_York:20271118T120000
DTEND;TZID=America/New_York:20271118T130000
DTSTAMP:20260421T002700
CREATED:20260306T015408Z
LAST-MODIFIED:20260306T015408Z
UID:10002236-1826539200-1826542800@www.arden-courts.com
SUMMARY:Arden Courts at Anderson Township: Dementia Support Group
DESCRIPTION:Support Group for Caregivers and Families of loved ones with dementia \nEvent Location: Ardend Courts\n6870 Clough Pike\, Cincinnati\, OH 45244 \nRSVP: Alicia Bauer abauer@arden-courts.com
URL:https://www.arden-courts.com/event/arden-courts-at-anderson-township-dementia-support-group-2-2/2027-11-18/
CATEGORIES:Anderson Township
END:VEVENT
BEGIN:VEVENT
DTSTART;TZID=America/New_York:20271216T120000
DTEND;TZID=America/New_York:20271216T130000
DTSTAMP:20260421T002700
CREATED:20260306T015408Z
LAST-MODIFIED:20260306T015408Z
UID:10002237-1828958400-1828962000@www.arden-courts.com
SUMMARY:Arden Courts at Anderson Township: Dementia Support Group
DESCRIPTION:Support Group for Caregivers and Families of loved ones with dementia \nEvent Location: Ardend Courts\n6870 Clough Pike\, Cincinnati\, OH 45244 \nRSVP: Alicia Bauer abauer@arden-courts.com
URL:https://www.arden-courts.com/event/arden-courts-at-anderson-township-dementia-support-group-2-2/2027-12-16/
CATEGORIES:Anderson Township
END:VEVENT
BEGIN:VEVENT
DTSTART;TZID=America/New_York:20280120T120000
DTEND;TZID=America/New_York:20280120T130000
DTSTAMP:20260421T002700
CREATED:20260306T015408Z
LAST-MODIFIED:20260306T015408Z
UID:10002238-1831982400-1831986000@www.arden-courts.com
SUMMARY:Arden Courts at Anderson Township: Dementia Support Group
DESCRIPTION:Support Group for Caregivers and Families of loved ones with dementia \nEvent Location: Ardend Courts\n6870 Clough Pike\, Cincinnati\, OH 45244 \nRSVP: Alicia Bauer abauer@arden-courts.com
URL:https://www.arden-courts.com/event/arden-courts-at-anderson-township-dementia-support-group-2-2/2028-01-20/
CATEGORIES:Anderson Township
END:VEVENT
BEGIN:VEVENT
DTSTART;TZID=America/New_York:20280217T120000
DTEND;TZID=America/New_York:20280217T130000
DTSTAMP:20260421T002700
CREATED:20260306T015408Z
LAST-MODIFIED:20260306T015408Z
UID:10002239-1834401600-1834405200@www.arden-courts.com
SUMMARY:Arden Courts at Anderson Township: Dementia Support Group
DESCRIPTION:Support Group for Caregivers and Families of loved ones with dementia \nEvent Location: Ardend Courts\n6870 Clough Pike\, Cincinnati\, OH 45244 \nRSVP: Alicia Bauer abauer@arden-courts.com
URL:https://www.arden-courts.com/event/arden-courts-at-anderson-township-dementia-support-group-2-2/2028-02-17/
CATEGORIES:Anderson Township
END:VEVENT
BEGIN:VEVENT
DTSTART;TZID=America/New_York:20280316T120000
DTEND;TZID=America/New_York:20280316T130000
DTSTAMP:20260421T002700
CREATED:20260306T015408Z
LAST-MODIFIED:20260306T015408Z
UID:10002240-1836820800-1836824400@www.arden-courts.com
SUMMARY:Arden Courts at Anderson Township: Dementia Support Group
DESCRIPTION:Support Group for Caregivers and Families of loved ones with dementia \nEvent Location: Ardend Courts\n6870 Clough Pike\, Cincinnati\, OH 45244 \nRSVP: Alicia Bauer abauer@arden-courts.com
URL:https://www.arden-courts.com/event/arden-courts-at-anderson-township-dementia-support-group-2-2/2028-03-16/
CATEGORIES:Anderson Township
END:VEVENT
BEGIN:VEVENT
DTSTART;TZID=America/New_York:20280420T120000
DTEND;TZID=America/New_York:20280420T130000
DTSTAMP:20260421T002700
CREATED:20260306T015408Z
LAST-MODIFIED:20260306T015408Z
UID:10002241-1839844800-1839848400@www.arden-courts.com
SUMMARY:Arden Courts at Anderson Township: Dementia Support Group
DESCRIPTION:Support Group for Caregivers and Families of loved ones with dementia \nEvent Location: Ardend Courts\n6870 Clough Pike\, Cincinnati\, OH 45244 \nRSVP: Alicia Bauer abauer@arden-courts.com
URL:https://www.arden-courts.com/event/arden-courts-at-anderson-township-dementia-support-group-2-2/2028-04-20/
CATEGORIES:Anderson Township
END:VEVENT
BEGIN:VEVENT
DTSTART;TZID=America/New_York:20280518T120000
DTEND;TZID=America/New_York:20280518T130000
DTSTAMP:20260421T002700
CREATED:20260306T015408Z
LAST-MODIFIED:20260306T015408Z
UID:10002242-1842264000-1842267600@www.arden-courts.com
SUMMARY:Arden Courts at Anderson Township: Dementia Support Group
DESCRIPTION:Support Group for Caregivers and Families of loved ones with dementia \nEvent Location: Ardend Courts\n6870 Clough Pike\, Cincinnati\, OH 45244 \nRSVP: Alicia Bauer abauer@arden-courts.com
URL:https://www.arden-courts.com/event/arden-courts-at-anderson-township-dementia-support-group-2-2/2028-05-18/
CATEGORIES:Anderson Township
END:VEVENT
BEGIN:VEVENT
DTSTART;TZID=America/New_York:20280615T120000
DTEND;TZID=America/New_York:20280615T130000
DTSTAMP:20260421T002700
CREATED:20260306T015408Z
LAST-MODIFIED:20260306T015408Z
UID:10002243-1844683200-1844686800@www.arden-courts.com
SUMMARY:Arden Courts at Anderson Township: Dementia Support Group
DESCRIPTION:Support Group for Caregivers and Families of loved ones with dementia \nEvent Location: Ardend Courts\n6870 Clough Pike\, Cincinnati\, OH 45244 \nRSVP: Alicia Bauer abauer@arden-courts.com
URL:https://www.arden-courts.com/event/arden-courts-at-anderson-township-dementia-support-group-2-2/2028-06-15/
CATEGORIES:Anderson Township
END:VEVENT
BEGIN:VEVENT
DTSTART;TZID=America/New_York:20280720T120000
DTEND;TZID=America/New_York:20280720T130000
DTSTAMP:20260421T002700
CREATED:20260306T015408Z
LAST-MODIFIED:20260306T015408Z
UID:10002244-1847707200-1847710800@www.arden-courts.com
SUMMARY:Arden Courts at Anderson Township: Dementia Support Group
DESCRIPTION:Support Group for Caregivers and Families of loved ones with dementia \nEvent Location: Ardend Courts\n6870 Clough Pike\, Cincinnati\, OH 45244 \nRSVP: Alicia Bauer abauer@arden-courts.com
URL:https://www.arden-courts.com/event/arden-courts-at-anderson-township-dementia-support-group-2-2/2028-07-20/
CATEGORIES:Anderson Township
END:VEVENT
BEGIN:VEVENT
DTSTART;TZID=America/New_York:20280817T120000
DTEND;TZID=America/New_York:20280817T130000
DTSTAMP:20260421T002700
CREATED:20260306T015408Z
LAST-MODIFIED:20260306T015408Z
UID:10002245-1850126400-1850130000@www.arden-courts.com
SUMMARY:Arden Courts at Anderson Township: Dementia Support Group
DESCRIPTION:Support Group for Caregivers and Families of loved ones with dementia \nEvent Location: Ardend Courts\n6870 Clough Pike\, Cincinnati\, OH 45244 \nRSVP: Alicia Bauer abauer@arden-courts.com
URL:https://www.arden-courts.com/event/arden-courts-at-anderson-township-dementia-support-group-2-2/2028-08-17/
CATEGORIES:Anderson Township
END:VEVENT
BEGIN:VEVENT
DTSTART;TZID=America/New_York:20280921T120000
DTEND;TZID=America/New_York:20280921T130000
DTSTAMP:20260421T002700
CREATED:20260306T015408Z
LAST-MODIFIED:20260306T015408Z
UID:10002246-1853150400-1853154000@www.arden-courts.com
SUMMARY:Arden Courts at Anderson Township: Dementia Support Group
DESCRIPTION:Support Group for Caregivers and Families of loved ones with dementia \nEvent Location: Ardend Courts\n6870 Clough Pike\, Cincinnati\, OH 45244 \nRSVP: Alicia Bauer abauer@arden-courts.com
URL:https://www.arden-courts.com/event/arden-courts-at-anderson-township-dementia-support-group-2-2/2028-09-21/
CATEGORIES:Anderson Township
END:VEVENT
BEGIN:VEVENT
DTSTART;TZID=America/New_York:20281019T120000
DTEND;TZID=America/New_York:20281019T130000
DTSTAMP:20260421T002700
CREATED:20260306T015408Z
LAST-MODIFIED:20260306T015408Z
UID:10002247-1855569600-1855573200@www.arden-courts.com
SUMMARY:Arden Courts at Anderson Township: Dementia Support Group
DESCRIPTION:Support Group for Caregivers and Families of loved ones with dementia \nEvent Location: Ardend Courts\n6870 Clough Pike\, Cincinnati\, OH 45244 \nRSVP: Alicia Bauer abauer@arden-courts.com
URL:https://www.arden-courts.com/event/arden-courts-at-anderson-township-dementia-support-group-2-2/2028-10-19/
CATEGORIES:Anderson Township
END:VEVENT
END:VCALENDAR