BEGIN:VCALENDAR
VERSION:2.0
PRODID:-//Arden Courts Memory Care  - ECPv6.15.20//NONSGML v1.0//EN
CALSCALE:GREGORIAN
METHOD:PUBLISH
X-WR-CALNAME:Arden Courts Memory Care 
X-ORIGINAL-URL:https://www.arden-courts.com
X-WR-CALDESC:Events for Arden Courts Memory Care 
REFRESH-INTERVAL;VALUE=DURATION:PT1H
X-Robots-Tag:noindex
X-PUBLISHED-TTL:PT1H
BEGIN:VTIMEZONE
TZID:America/New_York
BEGIN:DAYLIGHT
TZOFFSETFROM:-0500
TZOFFSETTO:-0400
TZNAME:EDT
DTSTART:20250309T070000
END:DAYLIGHT
BEGIN:STANDARD
TZOFFSETFROM:-0400
TZOFFSETTO:-0500
TZNAME:EST
DTSTART:20251102T060000
END:STANDARD
BEGIN:DAYLIGHT
TZOFFSETFROM:-0500
TZOFFSETTO:-0400
TZNAME:EDT
DTSTART:20260308T070000
END:DAYLIGHT
BEGIN:STANDARD
TZOFFSETFROM:-0400
TZOFFSETTO:-0500
TZNAME:EST
DTSTART:20261101T060000
END:STANDARD
BEGIN:DAYLIGHT
TZOFFSETFROM:-0500
TZOFFSETTO:-0400
TZNAME:EDT
DTSTART:20270314T070000
END:DAYLIGHT
BEGIN:STANDARD
TZOFFSETFROM:-0400
TZOFFSETTO:-0500
TZNAME:EST
DTSTART:20271107T060000
END:STANDARD
BEGIN:DAYLIGHT
TZOFFSETFROM:-0500
TZOFFSETTO:-0400
TZNAME:EDT
DTSTART:20280312T070000
END:DAYLIGHT
BEGIN:STANDARD
TZOFFSETFROM:-0400
TZOFFSETTO:-0500
TZNAME:EST
DTSTART:20281105T060000
END:STANDARD
BEGIN:DAYLIGHT
TZOFFSETFROM:-0500
TZOFFSETTO:-0400
TZNAME:EDT
DTSTART:20290311T070000
END:DAYLIGHT
BEGIN:STANDARD
TZOFFSETFROM:-0400
TZOFFSETTO:-0500
TZNAME:EST
DTSTART:20291104T060000
END:STANDARD
END:VTIMEZONE
BEGIN:VEVENT
DTSTART;TZID=America/New_York:20260521T110000
DTEND;TZID=America/New_York:20260521T123000
DTSTAMP:20260420T122030
CREATED:20251009T021114Z
LAST-MODIFIED:20260131T203851Z
UID:10000297-1779361200-1779366600@www.arden-courts.com
SUMMARY:Arden Courts at Chagrin Falls: Spouses Support Group
DESCRIPTION:Spouses of those with dementia can join for a support group followed by lunch. Community members can bring their loved ones to participate in a program and to have lunch with other residents \nEvent Location: Arden Courts at Chagrin Falls\n8100 Washington Street\, Chagrin Falls\, OH 44023 \nRSVP: Call 440-543-6766 to register 24 hours in advance
URL:https://www.arden-courts.com/event/arden-courts-at-chagrin-falls-spouses-support-group/2026-05-21/
CATEGORIES:Chagrin Falls
END:VEVENT
BEGIN:VEVENT
DTSTART;TZID=America/New_York:20260618T110000
DTEND;TZID=America/New_York:20260618T123000
DTSTAMP:20260420T122030
CREATED:20251009T021114Z
LAST-MODIFIED:20260131T203851Z
UID:10000298-1781780400-1781785800@www.arden-courts.com
SUMMARY:Arden Courts at Chagrin Falls: Spouses Support Group
DESCRIPTION:Spouses of those with dementia can join for a support group followed by lunch. Community members can bring their loved ones to participate in a program and to have lunch with other residents \nEvent Location: Arden Courts at Chagrin Falls\n8100 Washington Street\, Chagrin Falls\, OH 44023 \nRSVP: Call 440-543-6766 to register 24 hours in advance
URL:https://www.arden-courts.com/event/arden-courts-at-chagrin-falls-spouses-support-group/2026-06-18/
CATEGORIES:Chagrin Falls
END:VEVENT
BEGIN:VEVENT
DTSTART;TZID=America/New_York:20260716T110000
DTEND;TZID=America/New_York:20260716T123000
DTSTAMP:20260420T122030
CREATED:20251009T021114Z
LAST-MODIFIED:20260131T203851Z
UID:10000299-1784199600-1784205000@www.arden-courts.com
SUMMARY:Arden Courts at Chagrin Falls: Spouses Support Group
DESCRIPTION:Spouses of those with dementia can join for a support group followed by lunch. Community members can bring their loved ones to participate in a program and to have lunch with other residents \nEvent Location: Arden Courts at Chagrin Falls\n8100 Washington Street\, Chagrin Falls\, OH 44023 \nRSVP: Call 440-543-6766 to register 24 hours in advance
URL:https://www.arden-courts.com/event/arden-courts-at-chagrin-falls-spouses-support-group/2026-07-16/
CATEGORIES:Chagrin Falls
END:VEVENT
BEGIN:VEVENT
DTSTART;TZID=America/New_York:20260820T110000
DTEND;TZID=America/New_York:20260820T123000
DTSTAMP:20260420T122030
CREATED:20251009T021114Z
LAST-MODIFIED:20260131T203851Z
UID:10000300-1787223600-1787229000@www.arden-courts.com
SUMMARY:Arden Courts at Chagrin Falls: Spouses Support Group
DESCRIPTION:Spouses of those with dementia can join for a support group followed by lunch. Community members can bring their loved ones to participate in a program and to have lunch with other residents \nEvent Location: Arden Courts at Chagrin Falls\n8100 Washington Street\, Chagrin Falls\, OH 44023 \nRSVP: Call 440-543-6766 to register 24 hours in advance
URL:https://www.arden-courts.com/event/arden-courts-at-chagrin-falls-spouses-support-group/2026-08-20/
CATEGORIES:Chagrin Falls
END:VEVENT
BEGIN:VEVENT
DTSTART;TZID=America/New_York:20260917T110000
DTEND;TZID=America/New_York:20260917T123000
DTSTAMP:20260420T122030
CREATED:20251009T021114Z
LAST-MODIFIED:20260131T203851Z
UID:10000301-1789642800-1789648200@www.arden-courts.com
SUMMARY:Arden Courts at Chagrin Falls: Spouses Support Group
DESCRIPTION:Spouses of those with dementia can join for a support group followed by lunch. Community members can bring their loved ones to participate in a program and to have lunch with other residents \nEvent Location: Arden Courts at Chagrin Falls\n8100 Washington Street\, Chagrin Falls\, OH 44023 \nRSVP: Call 440-543-6766 to register 24 hours in advance
URL:https://www.arden-courts.com/event/arden-courts-at-chagrin-falls-spouses-support-group/2026-09-17/
CATEGORIES:Chagrin Falls
END:VEVENT
BEGIN:VEVENT
DTSTART;TZID=America/New_York:20261015T110000
DTEND;TZID=America/New_York:20261015T123000
DTSTAMP:20260420T122030
CREATED:20251009T021114Z
LAST-MODIFIED:20260131T203851Z
UID:10000302-1792062000-1792067400@www.arden-courts.com
SUMMARY:Arden Courts at Chagrin Falls: Spouses Support Group
DESCRIPTION:Spouses of those with dementia can join for a support group followed by lunch. Community members can bring their loved ones to participate in a program and to have lunch with other residents \nEvent Location: Arden Courts at Chagrin Falls\n8100 Washington Street\, Chagrin Falls\, OH 44023 \nRSVP: Call 440-543-6766 to register 24 hours in advance
URL:https://www.arden-courts.com/event/arden-courts-at-chagrin-falls-spouses-support-group/2026-10-15/
CATEGORIES:Chagrin Falls
END:VEVENT
BEGIN:VEVENT
DTSTART;TZID=America/New_York:20261119T110000
DTEND;TZID=America/New_York:20261119T123000
DTSTAMP:20260420T122030
CREATED:20251009T021114Z
LAST-MODIFIED:20260131T203851Z
UID:10000303-1795086000-1795091400@www.arden-courts.com
SUMMARY:Arden Courts at Chagrin Falls: Spouses Support Group
DESCRIPTION:Spouses of those with dementia can join for a support group followed by lunch. Community members can bring their loved ones to participate in a program and to have lunch with other residents \nEvent Location: Arden Courts at Chagrin Falls\n8100 Washington Street\, Chagrin Falls\, OH 44023 \nRSVP: Call 440-543-6766 to register 24 hours in advance
URL:https://www.arden-courts.com/event/arden-courts-at-chagrin-falls-spouses-support-group/2026-11-19/
CATEGORIES:Chagrin Falls
END:VEVENT
BEGIN:VEVENT
DTSTART;TZID=America/New_York:20261217T110000
DTEND;TZID=America/New_York:20261217T123000
DTSTAMP:20260420T122030
CREATED:20251009T021114Z
LAST-MODIFIED:20260131T203851Z
UID:10000304-1797505200-1797510600@www.arden-courts.com
SUMMARY:Arden Courts at Chagrin Falls: Spouses Support Group
DESCRIPTION:Spouses of those with dementia can join for a support group followed by lunch. Community members can bring their loved ones to participate in a program and to have lunch with other residents \nEvent Location: Arden Courts at Chagrin Falls\n8100 Washington Street\, Chagrin Falls\, OH 44023 \nRSVP: Call 440-543-6766 to register 24 hours in advance
URL:https://www.arden-courts.com/event/arden-courts-at-chagrin-falls-spouses-support-group/2026-12-17/
CATEGORIES:Chagrin Falls
END:VEVENT
BEGIN:VEVENT
DTSTART;TZID=America/New_York:20270121T110000
DTEND;TZID=America/New_York:20270121T123000
DTSTAMP:20260420T122030
CREATED:20251009T021114Z
LAST-MODIFIED:20260131T203851Z
UID:10000305-1800529200-1800534600@www.arden-courts.com
SUMMARY:Arden Courts at Chagrin Falls: Spouses Support Group
DESCRIPTION:Spouses of those with dementia can join for a support group followed by lunch. Community members can bring their loved ones to participate in a program and to have lunch with other residents \nEvent Location: Arden Courts at Chagrin Falls\n8100 Washington Street\, Chagrin Falls\, OH 44023 \nRSVP: Call 440-543-6766 to register 24 hours in advance
URL:https://www.arden-courts.com/event/arden-courts-at-chagrin-falls-spouses-support-group/2027-01-21/
CATEGORIES:Chagrin Falls
END:VEVENT
BEGIN:VEVENT
DTSTART;TZID=America/New_York:20270218T110000
DTEND;TZID=America/New_York:20270218T123000
DTSTAMP:20260420T122030
CREATED:20251009T021114Z
LAST-MODIFIED:20260131T203851Z
UID:10000306-1802948400-1802953800@www.arden-courts.com
SUMMARY:Arden Courts at Chagrin Falls: Spouses Support Group
DESCRIPTION:Spouses of those with dementia can join for a support group followed by lunch. Community members can bring their loved ones to participate in a program and to have lunch with other residents \nEvent Location: Arden Courts at Chagrin Falls\n8100 Washington Street\, Chagrin Falls\, OH 44023 \nRSVP: Call 440-543-6766 to register 24 hours in advance
URL:https://www.arden-courts.com/event/arden-courts-at-chagrin-falls-spouses-support-group/2027-02-18/
CATEGORIES:Chagrin Falls
END:VEVENT
BEGIN:VEVENT
DTSTART;TZID=America/New_York:20270318T110000
DTEND;TZID=America/New_York:20270318T123000
DTSTAMP:20260420T122030
CREATED:20251009T021114Z
LAST-MODIFIED:20260131T203851Z
UID:10000307-1805367600-1805373000@www.arden-courts.com
SUMMARY:Arden Courts at Chagrin Falls: Spouses Support Group
DESCRIPTION:Spouses of those with dementia can join for a support group followed by lunch. Community members can bring their loved ones to participate in a program and to have lunch with other residents \nEvent Location: Arden Courts at Chagrin Falls\n8100 Washington Street\, Chagrin Falls\, OH 44023 \nRSVP: Call 440-543-6766 to register 24 hours in advance
URL:https://www.arden-courts.com/event/arden-courts-at-chagrin-falls-spouses-support-group/2027-03-18/
CATEGORIES:Chagrin Falls
END:VEVENT
BEGIN:VEVENT
DTSTART;TZID=America/New_York:20270415T110000
DTEND;TZID=America/New_York:20270415T123000
DTSTAMP:20260420T122030
CREATED:20251009T021114Z
LAST-MODIFIED:20260131T203851Z
UID:10000308-1807786800-1807792200@www.arden-courts.com
SUMMARY:Arden Courts at Chagrin Falls: Spouses Support Group
DESCRIPTION:Spouses of those with dementia can join for a support group followed by lunch. Community members can bring their loved ones to participate in a program and to have lunch with other residents \nEvent Location: Arden Courts at Chagrin Falls\n8100 Washington Street\, Chagrin Falls\, OH 44023 \nRSVP: Call 440-543-6766 to register 24 hours in advance
URL:https://www.arden-courts.com/event/arden-courts-at-chagrin-falls-spouses-support-group/2027-04-15/
CATEGORIES:Chagrin Falls
END:VEVENT
BEGIN:VEVENT
DTSTART;TZID=America/New_York:20270520T110000
DTEND;TZID=America/New_York:20270520T123000
DTSTAMP:20260420T122030
CREATED:20251009T021114Z
LAST-MODIFIED:20260131T203851Z
UID:10000309-1810810800-1810816200@www.arden-courts.com
SUMMARY:Arden Courts at Chagrin Falls: Spouses Support Group
DESCRIPTION:Spouses of those with dementia can join for a support group followed by lunch. Community members can bring their loved ones to participate in a program and to have lunch with other residents \nEvent Location: Arden Courts at Chagrin Falls\n8100 Washington Street\, Chagrin Falls\, OH 44023 \nRSVP: Call 440-543-6766 to register 24 hours in advance
URL:https://www.arden-courts.com/event/arden-courts-at-chagrin-falls-spouses-support-group/2027-05-20/
CATEGORIES:Chagrin Falls
END:VEVENT
BEGIN:VEVENT
DTSTART;TZID=America/New_York:20270617T110000
DTEND;TZID=America/New_York:20270617T123000
DTSTAMP:20260420T122030
CREATED:20251009T021114Z
LAST-MODIFIED:20260131T203851Z
UID:10000310-1813230000-1813235400@www.arden-courts.com
SUMMARY:Arden Courts at Chagrin Falls: Spouses Support Group
DESCRIPTION:Spouses of those with dementia can join for a support group followed by lunch. Community members can bring their loved ones to participate in a program and to have lunch with other residents \nEvent Location: Arden Courts at Chagrin Falls\n8100 Washington Street\, Chagrin Falls\, OH 44023 \nRSVP: Call 440-543-6766 to register 24 hours in advance
URL:https://www.arden-courts.com/event/arden-courts-at-chagrin-falls-spouses-support-group/2027-06-17/
CATEGORIES:Chagrin Falls
END:VEVENT
BEGIN:VEVENT
DTSTART;TZID=America/New_York:20270715T110000
DTEND;TZID=America/New_York:20270715T123000
DTSTAMP:20260420T122030
CREATED:20251009T021114Z
LAST-MODIFIED:20260131T203851Z
UID:10000311-1815649200-1815654600@www.arden-courts.com
SUMMARY:Arden Courts at Chagrin Falls: Spouses Support Group
DESCRIPTION:Spouses of those with dementia can join for a support group followed by lunch. Community members can bring their loved ones to participate in a program and to have lunch with other residents \nEvent Location: Arden Courts at Chagrin Falls\n8100 Washington Street\, Chagrin Falls\, OH 44023 \nRSVP: Call 440-543-6766 to register 24 hours in advance
URL:https://www.arden-courts.com/event/arden-courts-at-chagrin-falls-spouses-support-group/2027-07-15/
CATEGORIES:Chagrin Falls
END:VEVENT
BEGIN:VEVENT
DTSTART;TZID=America/New_York:20270819T110000
DTEND;TZID=America/New_York:20270819T123000
DTSTAMP:20260420T122030
CREATED:20251009T021114Z
LAST-MODIFIED:20260131T203851Z
UID:10000312-1818673200-1818678600@www.arden-courts.com
SUMMARY:Arden Courts at Chagrin Falls: Spouses Support Group
DESCRIPTION:Spouses of those with dementia can join for a support group followed by lunch. Community members can bring their loved ones to participate in a program and to have lunch with other residents \nEvent Location: Arden Courts at Chagrin Falls\n8100 Washington Street\, Chagrin Falls\, OH 44023 \nRSVP: Call 440-543-6766 to register 24 hours in advance
URL:https://www.arden-courts.com/event/arden-courts-at-chagrin-falls-spouses-support-group/2027-08-19/
CATEGORIES:Chagrin Falls
END:VEVENT
BEGIN:VEVENT
DTSTART;TZID=America/New_York:20270916T110000
DTEND;TZID=America/New_York:20270916T123000
DTSTAMP:20260420T122030
CREATED:20251009T021114Z
LAST-MODIFIED:20260131T203851Z
UID:10000313-1821092400-1821097800@www.arden-courts.com
SUMMARY:Arden Courts at Chagrin Falls: Spouses Support Group
DESCRIPTION:Spouses of those with dementia can join for a support group followed by lunch. Community members can bring their loved ones to participate in a program and to have lunch with other residents \nEvent Location: Arden Courts at Chagrin Falls\n8100 Washington Street\, Chagrin Falls\, OH 44023 \nRSVP: Call 440-543-6766 to register 24 hours in advance
URL:https://www.arden-courts.com/event/arden-courts-at-chagrin-falls-spouses-support-group/2027-09-16/
CATEGORIES:Chagrin Falls
END:VEVENT
BEGIN:VEVENT
DTSTART;TZID=America/New_York:20271021T110000
DTEND;TZID=America/New_York:20271021T123000
DTSTAMP:20260420T122030
CREATED:20251009T021114Z
LAST-MODIFIED:20260131T203851Z
UID:10000314-1824116400-1824121800@www.arden-courts.com
SUMMARY:Arden Courts at Chagrin Falls: Spouses Support Group
DESCRIPTION:Spouses of those with dementia can join for a support group followed by lunch. Community members can bring their loved ones to participate in a program and to have lunch with other residents \nEvent Location: Arden Courts at Chagrin Falls\n8100 Washington Street\, Chagrin Falls\, OH 44023 \nRSVP: Call 440-543-6766 to register 24 hours in advance
URL:https://www.arden-courts.com/event/arden-courts-at-chagrin-falls-spouses-support-group/2027-10-21/
CATEGORIES:Chagrin Falls
END:VEVENT
BEGIN:VEVENT
DTSTART;TZID=America/New_York:20271118T110000
DTEND;TZID=America/New_York:20271118T123000
DTSTAMP:20260420T122030
CREATED:20251009T021114Z
LAST-MODIFIED:20260131T203851Z
UID:10000315-1826535600-1826541000@www.arden-courts.com
SUMMARY:Arden Courts at Chagrin Falls: Spouses Support Group
DESCRIPTION:Spouses of those with dementia can join for a support group followed by lunch. Community members can bring their loved ones to participate in a program and to have lunch with other residents \nEvent Location: Arden Courts at Chagrin Falls\n8100 Washington Street\, Chagrin Falls\, OH 44023 \nRSVP: Call 440-543-6766 to register 24 hours in advance
URL:https://www.arden-courts.com/event/arden-courts-at-chagrin-falls-spouses-support-group/2027-11-18/
CATEGORIES:Chagrin Falls
END:VEVENT
BEGIN:VEVENT
DTSTART;TZID=America/New_York:20271216T110000
DTEND;TZID=America/New_York:20271216T123000
DTSTAMP:20260420T122030
CREATED:20251009T021114Z
LAST-MODIFIED:20260131T203851Z
UID:10000316-1828954800-1828960200@www.arden-courts.com
SUMMARY:Arden Courts at Chagrin Falls: Spouses Support Group
DESCRIPTION:Spouses of those with dementia can join for a support group followed by lunch. Community members can bring their loved ones to participate in a program and to have lunch with other residents \nEvent Location: Arden Courts at Chagrin Falls\n8100 Washington Street\, Chagrin Falls\, OH 44023 \nRSVP: Call 440-543-6766 to register 24 hours in advance
URL:https://www.arden-courts.com/event/arden-courts-at-chagrin-falls-spouses-support-group/2027-12-16/
CATEGORIES:Chagrin Falls
END:VEVENT
BEGIN:VEVENT
DTSTART;TZID=America/New_York:20280120T110000
DTEND;TZID=America/New_York:20280120T123000
DTSTAMP:20260420T122030
CREATED:20251009T021114Z
LAST-MODIFIED:20260131T203851Z
UID:10000317-1831978800-1831984200@www.arden-courts.com
SUMMARY:Arden Courts at Chagrin Falls: Spouses Support Group
DESCRIPTION:Spouses of those with dementia can join for a support group followed by lunch. Community members can bring their loved ones to participate in a program and to have lunch with other residents \nEvent Location: Arden Courts at Chagrin Falls\n8100 Washington Street\, Chagrin Falls\, OH 44023 \nRSVP: Call 440-543-6766 to register 24 hours in advance
URL:https://www.arden-courts.com/event/arden-courts-at-chagrin-falls-spouses-support-group/2028-01-20/
CATEGORIES:Chagrin Falls
END:VEVENT
BEGIN:VEVENT
DTSTART;TZID=America/New_York:20280217T110000
DTEND;TZID=America/New_York:20280217T123000
DTSTAMP:20260420T122030
CREATED:20251009T021114Z
LAST-MODIFIED:20260131T203851Z
UID:10000318-1834398000-1834403400@www.arden-courts.com
SUMMARY:Arden Courts at Chagrin Falls: Spouses Support Group
DESCRIPTION:Spouses of those with dementia can join for a support group followed by lunch. Community members can bring their loved ones to participate in a program and to have lunch with other residents \nEvent Location: Arden Courts at Chagrin Falls\n8100 Washington Street\, Chagrin Falls\, OH 44023 \nRSVP: Call 440-543-6766 to register 24 hours in advance
URL:https://www.arden-courts.com/event/arden-courts-at-chagrin-falls-spouses-support-group/2028-02-17/
CATEGORIES:Chagrin Falls
END:VEVENT
BEGIN:VEVENT
DTSTART;TZID=America/New_York:20280316T110000
DTEND;TZID=America/New_York:20280316T123000
DTSTAMP:20260420T122030
CREATED:20251009T021114Z
LAST-MODIFIED:20260131T203851Z
UID:10000319-1836817200-1836822600@www.arden-courts.com
SUMMARY:Arden Courts at Chagrin Falls: Spouses Support Group
DESCRIPTION:Spouses of those with dementia can join for a support group followed by lunch. Community members can bring their loved ones to participate in a program and to have lunch with other residents \nEvent Location: Arden Courts at Chagrin Falls\n8100 Washington Street\, Chagrin Falls\, OH 44023 \nRSVP: Call 440-543-6766 to register 24 hours in advance
URL:https://www.arden-courts.com/event/arden-courts-at-chagrin-falls-spouses-support-group/2028-03-16/
CATEGORIES:Chagrin Falls
END:VEVENT
BEGIN:VEVENT
DTSTART;TZID=America/New_York:20280420T110000
DTEND;TZID=America/New_York:20280420T123000
DTSTAMP:20260420T122030
CREATED:20251009T021114Z
LAST-MODIFIED:20260131T203851Z
UID:10000320-1839841200-1839846600@www.arden-courts.com
SUMMARY:Arden Courts at Chagrin Falls: Spouses Support Group
DESCRIPTION:Spouses of those with dementia can join for a support group followed by lunch. Community members can bring their loved ones to participate in a program and to have lunch with other residents \nEvent Location: Arden Courts at Chagrin Falls\n8100 Washington Street\, Chagrin Falls\, OH 44023 \nRSVP: Call 440-543-6766 to register 24 hours in advance
URL:https://www.arden-courts.com/event/arden-courts-at-chagrin-falls-spouses-support-group/2028-04-20/
CATEGORIES:Chagrin Falls
END:VEVENT
BEGIN:VEVENT
DTSTART;TZID=America/New_York:20280518T110000
DTEND;TZID=America/New_York:20280518T123000
DTSTAMP:20260420T122030
CREATED:20251009T021114Z
LAST-MODIFIED:20260131T203851Z
UID:10000321-1842260400-1842265800@www.arden-courts.com
SUMMARY:Arden Courts at Chagrin Falls: Spouses Support Group
DESCRIPTION:Spouses of those with dementia can join for a support group followed by lunch. Community members can bring their loved ones to participate in a program and to have lunch with other residents \nEvent Location: Arden Courts at Chagrin Falls\n8100 Washington Street\, Chagrin Falls\, OH 44023 \nRSVP: Call 440-543-6766 to register 24 hours in advance
URL:https://www.arden-courts.com/event/arden-courts-at-chagrin-falls-spouses-support-group/2028-05-18/
CATEGORIES:Chagrin Falls
END:VEVENT
BEGIN:VEVENT
DTSTART;TZID=America/New_York:20280615T110000
DTEND;TZID=America/New_York:20280615T123000
DTSTAMP:20260420T122030
CREATED:20251009T021114Z
LAST-MODIFIED:20260131T203851Z
UID:10000322-1844679600-1844685000@www.arden-courts.com
SUMMARY:Arden Courts at Chagrin Falls: Spouses Support Group
DESCRIPTION:Spouses of those with dementia can join for a support group followed by lunch. Community members can bring their loved ones to participate in a program and to have lunch with other residents \nEvent Location: Arden Courts at Chagrin Falls\n8100 Washington Street\, Chagrin Falls\, OH 44023 \nRSVP: Call 440-543-6766 to register 24 hours in advance
URL:https://www.arden-courts.com/event/arden-courts-at-chagrin-falls-spouses-support-group/2028-06-15/
CATEGORIES:Chagrin Falls
END:VEVENT
BEGIN:VEVENT
DTSTART;TZID=America/New_York:20280720T110000
DTEND;TZID=America/New_York:20280720T123000
DTSTAMP:20260420T122030
CREATED:20251009T021114Z
LAST-MODIFIED:20260131T203851Z
UID:10000323-1847703600-1847709000@www.arden-courts.com
SUMMARY:Arden Courts at Chagrin Falls: Spouses Support Group
DESCRIPTION:Spouses of those with dementia can join for a support group followed by lunch. Community members can bring their loved ones to participate in a program and to have lunch with other residents \nEvent Location: Arden Courts at Chagrin Falls\n8100 Washington Street\, Chagrin Falls\, OH 44023 \nRSVP: Call 440-543-6766 to register 24 hours in advance
URL:https://www.arden-courts.com/event/arden-courts-at-chagrin-falls-spouses-support-group/2028-07-20/
CATEGORIES:Chagrin Falls
END:VEVENT
BEGIN:VEVENT
DTSTART;TZID=America/New_York:20280817T110000
DTEND;TZID=America/New_York:20280817T123000
DTSTAMP:20260420T122030
CREATED:20251009T021114Z
LAST-MODIFIED:20260131T203851Z
UID:10000324-1850122800-1850128200@www.arden-courts.com
SUMMARY:Arden Courts at Chagrin Falls: Spouses Support Group
DESCRIPTION:Spouses of those with dementia can join for a support group followed by lunch. Community members can bring their loved ones to participate in a program and to have lunch with other residents \nEvent Location: Arden Courts at Chagrin Falls\n8100 Washington Street\, Chagrin Falls\, OH 44023 \nRSVP: Call 440-543-6766 to register 24 hours in advance
URL:https://www.arden-courts.com/event/arden-courts-at-chagrin-falls-spouses-support-group/2028-08-17/
CATEGORIES:Chagrin Falls
END:VEVENT
BEGIN:VEVENT
DTSTART;TZID=America/New_York:20280921T110000
DTEND;TZID=America/New_York:20280921T123000
DTSTAMP:20260420T122030
CREATED:20251009T021114Z
LAST-MODIFIED:20260131T203851Z
UID:10000325-1853146800-1853152200@www.arden-courts.com
SUMMARY:Arden Courts at Chagrin Falls: Spouses Support Group
DESCRIPTION:Spouses of those with dementia can join for a support group followed by lunch. Community members can bring their loved ones to participate in a program and to have lunch with other residents \nEvent Location: Arden Courts at Chagrin Falls\n8100 Washington Street\, Chagrin Falls\, OH 44023 \nRSVP: Call 440-543-6766 to register 24 hours in advance
URL:https://www.arden-courts.com/event/arden-courts-at-chagrin-falls-spouses-support-group/2028-09-21/
CATEGORIES:Chagrin Falls
END:VEVENT
BEGIN:VEVENT
DTSTART;TZID=America/New_York:20281019T110000
DTEND;TZID=America/New_York:20281019T123000
DTSTAMP:20260420T122030
CREATED:20251009T021114Z
LAST-MODIFIED:20260131T203851Z
UID:10000326-1855566000-1855571400@www.arden-courts.com
SUMMARY:Arden Courts at Chagrin Falls: Spouses Support Group
DESCRIPTION:Spouses of those with dementia can join for a support group followed by lunch. Community members can bring their loved ones to participate in a program and to have lunch with other residents \nEvent Location: Arden Courts at Chagrin Falls\n8100 Washington Street\, Chagrin Falls\, OH 44023 \nRSVP: Call 440-543-6766 to register 24 hours in advance
URL:https://www.arden-courts.com/event/arden-courts-at-chagrin-falls-spouses-support-group/2028-10-19/
CATEGORIES:Chagrin Falls
END:VEVENT
END:VCALENDAR