BEGIN:VCALENDAR
VERSION:2.0
PRODID:-//Arden Courts Memory Care  - ECPv6.15.20//NONSGML v1.0//EN
CALSCALE:GREGORIAN
METHOD:PUBLISH
X-WR-CALNAME:Arden Courts Memory Care 
X-ORIGINAL-URL:https://www.arden-courts.com
X-WR-CALDESC:Events for Arden Courts Memory Care 
REFRESH-INTERVAL;VALUE=DURATION:PT1H
X-Robots-Tag:noindex
X-PUBLISHED-TTL:PT1H
BEGIN:VTIMEZONE
TZID:America/New_York
BEGIN:DAYLIGHT
TZOFFSETFROM:-0500
TZOFFSETTO:-0400
TZNAME:EDT
DTSTART:20240310T070000
END:DAYLIGHT
BEGIN:STANDARD
TZOFFSETFROM:-0400
TZOFFSETTO:-0500
TZNAME:EST
DTSTART:20241103T060000
END:STANDARD
BEGIN:DAYLIGHT
TZOFFSETFROM:-0500
TZOFFSETTO:-0400
TZNAME:EDT
DTSTART:20250309T070000
END:DAYLIGHT
BEGIN:STANDARD
TZOFFSETFROM:-0400
TZOFFSETTO:-0500
TZNAME:EST
DTSTART:20251102T060000
END:STANDARD
BEGIN:DAYLIGHT
TZOFFSETFROM:-0500
TZOFFSETTO:-0400
TZNAME:EDT
DTSTART:20260308T070000
END:DAYLIGHT
BEGIN:STANDARD
TZOFFSETFROM:-0400
TZOFFSETTO:-0500
TZNAME:EST
DTSTART:20261101T060000
END:STANDARD
BEGIN:DAYLIGHT
TZOFFSETFROM:-0500
TZOFFSETTO:-0400
TZNAME:EDT
DTSTART:20270314T070000
END:DAYLIGHT
BEGIN:STANDARD
TZOFFSETFROM:-0400
TZOFFSETTO:-0500
TZNAME:EST
DTSTART:20271107T060000
END:STANDARD
END:VTIMEZONE
BEGIN:VEVENT
DTSTART;TZID=America/New_York:20260221T100000
DTEND;TZID=America/New_York:20260221T120000
DTSTAMP:20260420T232024
CREATED:20260201T190509Z
LAST-MODIFIED:20260201T190556Z
UID:10002204-1771668000-1771675200@www.arden-courts.com
SUMMARY:Arden Courts at Seminole: Dr. David Bernstein
DESCRIPTION:Caregiver wellness Dr. David Bernstein \nRSVP to Donna Seasare at 727-512-9925 or dceasare@arden-courts.com \nArden Courts at Seminole\n9300 Antilles Drive\, Seminole\, FL 33776
URL:https://www.arden-courts.com/event/arden-courts-at-seminole-dr-david-bernstein/
CATEGORIES:Seminole
END:VEVENT
BEGIN:VEVENT
DTSTART;TZID=America/New_York:20260221T100000
DTEND;TZID=America/New_York:20260221T113000
DTSTAMP:20260420T232024
CREATED:20260201T190704Z
LAST-MODIFIED:20260201T190704Z
UID:10001688-1771668000-1771673400@www.arden-courts.com
SUMMARY:Arden Courts at Seminole: Grief support group
DESCRIPTION:Michelle Rutherford: title Holding on while letting go\nRSVP to Donna Seasare at 727-512-9925 or dceasare@arden-courts.com \nArden Courts at Seminole\n9300 Antilles Drive\, Seminole\, FL 33776 \nDownload Info Here
URL:https://www.arden-courts.com/event/arden-courts-at-seminole-caregiver-support-groups-2/
CATEGORIES:Seminole
END:VEVENT
BEGIN:VEVENT
DTSTART;TZID=America/New_York:20260213T100000
DTEND;TZID=America/New_York:20260213T113000
DTSTAMP:20260420T232024
CREATED:20260201T190426Z
LAST-MODIFIED:20260201T190426Z
UID:10002203-1770976800-1770982200@www.arden-courts.com
SUMMARY:Arden Courts at Seminole: Linda Burhans support group
DESCRIPTION:Caring for the caregiver support group \nRSVP to Donna Seasare at 727-512-9925 or dceasare@arden-courts.com \nArden Courts at Seminole\n9300 Antilles Drive\, Seminole\, FL 33776
URL:https://www.arden-courts.com/event/arden-courts-at-seminole-linda-burhans-support-group/
CATEGORIES:Seminole
END:VEVENT
BEGIN:VEVENT
DTSTART;TZID=America/New_York:20260121T103000
DTEND;TZID=America/New_York:20260121T120000
DTSTAMP:20260420T232024
CREATED:20251215T162812Z
LAST-MODIFIED:20251215T162910Z
UID:10001685-1768991400-1768996800@www.arden-courts.com
SUMMARY:Arden Courts at Seminole: Senior Wellness Seminar
DESCRIPTION:RSVP to Donna Seasare at 727-9925 or dceasare@arden-courts.com \nDownload Info Here
URL:https://www.arden-courts.com/event/senior-wellness-seminar/
CATEGORIES:Seminole
END:VEVENT
BEGIN:VEVENT
DTSTART;TZID=America/New_York:20260109T100000
DTEND;TZID=America/New_York:20260109T113000
DTSTAMP:20260420T232024
CREATED:20251215T163326Z
LAST-MODIFIED:20260201T190229Z
UID:10001687-1767952800-1767958200@www.arden-courts.com
SUMMARY:Arden Courts at Seminole: Grief support group
DESCRIPTION:Michelle Rutherford: title Holding on while letting go\nRSVP to Donna Seasare at 727-512-9925 or dceasare@arden-courts.com \nArden Courts at Seminole\n9300 Antilles Drive\, Seminole\, FL 33776 \nDownload Info Here
URL:https://www.arden-courts.com/event/arden-courts-at-seminole-caregiver-support-groups/2026-01-09/
CATEGORIES:Seminole
END:VEVENT
BEGIN:VEVENT
DTSTART;TZID=America/New_York:20251220T100000
DTEND;TZID=America/New_York:20251220T113000
DTSTAMP:20260420T232024
CREATED:20251009T180322Z
LAST-MODIFIED:20251215T163048Z
UID:10001413-1766224800-1766230200@www.arden-courts.com
SUMMARY:Arden Courts at Seminole: Grief support group
DESCRIPTION:Michelle Rutherford: title Holding on while letting go \nEvent Location: 9300 Antilles Drive seminole florida 33776 \nRSVP: to Donna at 727-512-9925 or dceasare@arden-courts.com
URL:https://www.arden-courts.com/event/arden-courts-at-sarasota-grief-support-group/2025-12-20/
CATEGORIES:Seminole
END:VEVENT
BEGIN:VEVENT
DTSTART;TZID=America/New_York:20251212T100000
DTEND;TZID=America/New_York:20251212T113000
DTSTAMP:20260420T232024
CREATED:20251009T173922Z
LAST-MODIFIED:20251009T180814Z
UID:10001409-1765533600-1765539000@www.arden-courts.com
SUMMARY:Arden Courts at Sarasota: Linda Burhans support group
DESCRIPTION:Caring for the caregiver support group \nEvent Location: 9300 Antilles Drive seminole florida 33776 \nRSVP: to Donna at 727-512-9925 or dceasare@arden-courts.com
URL:https://www.arden-courts.com/event/arden-courts-at-sarasota-linda-burhans-support-group/2025-12-12/
CATEGORIES:Seminole
END:VEVENT
BEGIN:VEVENT
DTSTART;TZID=America/New_York:20251115T100000
DTEND;TZID=America/New_York:20251115T113000
DTSTAMP:20260420T232024
CREATED:20251009T180322Z
LAST-MODIFIED:20251215T163048Z
UID:10001412-1763200800-1763206200@www.arden-courts.com
SUMMARY:Arden Courts at Seminole: Grief support group
DESCRIPTION:Michelle Rutherford: title Holding on while letting go \nEvent Location: 9300 Antilles Drive seminole florida 33776 \nRSVP: to Donna at 727-512-9925 or dceasare@arden-courts.com
URL:https://www.arden-courts.com/event/arden-courts-at-sarasota-grief-support-group/2025-11-15/
CATEGORIES:Seminole
END:VEVENT
BEGIN:VEVENT
DTSTART;TZID=America/New_York:20251014T100000
DTEND;TZID=America/New_York:20251014T113000
DTSTAMP:20260420T232024
CREATED:20251009T173922Z
LAST-MODIFIED:20251009T180814Z
UID:10001408-1760436000-1760441400@www.arden-courts.com
SUMMARY:Arden Courts at Sarasota: Linda Burhans support group
DESCRIPTION:Caring for the caregiver support group \nEvent Location: 9300 Antilles Drive seminole florida 33776 \nRSVP: to Donna at 727-512-9925 or dceasare@arden-courts.com
URL:https://www.arden-courts.com/event/arden-courts-at-sarasota-linda-burhans-support-group/2025-10-14/
CATEGORIES:Seminole
END:VEVENT
END:VCALENDAR