BEGIN:VCALENDAR
VERSION:2.0
PRODID:-//Arden Courts Memory Care  - ECPv6.15.20//NONSGML v1.0//EN
CALSCALE:GREGORIAN
METHOD:PUBLISH
X-WR-CALNAME:Arden Courts Memory Care 
X-ORIGINAL-URL:https://www.arden-courts.com
X-WR-CALDESC:Events for Arden Courts Memory Care 
REFRESH-INTERVAL;VALUE=DURATION:PT1H
X-Robots-Tag:noindex
X-PUBLISHED-TTL:PT1H
BEGIN:VTIMEZONE
TZID:America/New_York
BEGIN:DAYLIGHT
TZOFFSETFROM:-0500
TZOFFSETTO:-0400
TZNAME:EDT
DTSTART:20240310T070000
END:DAYLIGHT
BEGIN:STANDARD
TZOFFSETFROM:-0400
TZOFFSETTO:-0500
TZNAME:EST
DTSTART:20241103T060000
END:STANDARD
BEGIN:DAYLIGHT
TZOFFSETFROM:-0500
TZOFFSETTO:-0400
TZNAME:EDT
DTSTART:20250309T070000
END:DAYLIGHT
BEGIN:STANDARD
TZOFFSETFROM:-0400
TZOFFSETTO:-0500
TZNAME:EST
DTSTART:20251102T060000
END:STANDARD
BEGIN:DAYLIGHT
TZOFFSETFROM:-0500
TZOFFSETTO:-0400
TZNAME:EDT
DTSTART:20260308T070000
END:DAYLIGHT
BEGIN:STANDARD
TZOFFSETFROM:-0400
TZOFFSETTO:-0500
TZNAME:EST
DTSTART:20261101T060000
END:STANDARD
BEGIN:DAYLIGHT
TZOFFSETFROM:-0500
TZOFFSETTO:-0400
TZNAME:EDT
DTSTART:20270314T070000
END:DAYLIGHT
BEGIN:STANDARD
TZOFFSETFROM:-0400
TZOFFSETTO:-0500
TZNAME:EST
DTSTART:20271107T060000
END:STANDARD
END:VTIMEZONE
BEGIN:VEVENT
DTSTART;TZID=America/New_York:20260416T170000
DTEND;TZID=America/New_York:20260416T190000
DTSTAMP:20260420T185755
CREATED:20251215T163545Z
LAST-MODIFIED:20251215T163628Z
UID:10001752-1776358800-1776366000@www.arden-courts.com
SUMMARY:Arden Courts at Sterling Heights: Family Night at Arden Courts
DESCRIPTION:Third Thursday of each month \nRSVP: 586-795-0998 \nDownload Event Info
URL:https://www.arden-courts.com/event/arden-courts-at-sterling-heights-family-night-at-arden-courts/2026-04-16/
CATEGORIES:Sterling Heights
END:VEVENT
BEGIN:VEVENT
DTSTART;TZID=America/New_York:20260319T170000
DTEND;TZID=America/New_York:20260319T190000
DTSTAMP:20260420T185755
CREATED:20251215T163545Z
LAST-MODIFIED:20251215T163628Z
UID:10001751-1773939600-1773946800@www.arden-courts.com
SUMMARY:Arden Courts at Sterling Heights: Family Night at Arden Courts
DESCRIPTION:Third Thursday of each month \nRSVP: 586-795-0998 \nDownload Event Info
URL:https://www.arden-courts.com/event/arden-courts-at-sterling-heights-family-night-at-arden-courts/2026-03-19/
CATEGORIES:Sterling Heights
END:VEVENT
BEGIN:VEVENT
DTSTART;TZID=America/New_York:20260311T100000
DTEND;TZID=America/New_York:20260311T110000
DTSTAMP:20260420T185755
CREATED:20251009T181600Z
LAST-MODIFIED:20260307T180825Z
UID:10001418-1773223200-1773226800@www.arden-courts.com
SUMMARY:Arden Courts at Sterling Heights: Caregiver Support Group
DESCRIPTION:Free in-person support group for caregivers \nEvent Location: Sterling Heights Senior Center \nRSVP: 586-795-0998
URL:https://www.arden-courts.com/event/arden-courts-at-sterling-heights-caregiver-support-group/
CATEGORIES:Sterling Heights
END:VEVENT
BEGIN:VEVENT
DTSTART;TZID=America/New_York:20260219T170000
DTEND;TZID=America/New_York:20260219T190000
DTSTAMP:20260420T185755
CREATED:20251215T163545Z
LAST-MODIFIED:20251215T163628Z
UID:10001750-1771520400-1771527600@www.arden-courts.com
SUMMARY:Arden Courts at Sterling Heights: Family Night at Arden Courts
DESCRIPTION:Third Thursday of each month \nRSVP: 586-795-0998 \nDownload Event Info
URL:https://www.arden-courts.com/event/arden-courts-at-sterling-heights-family-night-at-arden-courts/2026-02-19/
CATEGORIES:Sterling Heights
END:VEVENT
BEGIN:VEVENT
DTSTART;TZID=America/New_York:20260115T170000
DTEND;TZID=America/New_York:20260115T190000
DTSTAMP:20260420T185755
CREATED:20251215T163545Z
LAST-MODIFIED:20251215T163628Z
UID:10001749-1768496400-1768503600@www.arden-courts.com
SUMMARY:Arden Courts at Sterling Heights: Family Night at Arden Courts
DESCRIPTION:Third Thursday of each month \nRSVP: 586-795-0998 \nDownload Event Info
URL:https://www.arden-courts.com/event/arden-courts-at-sterling-heights-family-night-at-arden-courts/2026-01-15/
CATEGORIES:Sterling Heights
END:VEVENT
BEGIN:VEVENT
DTSTART;TZID=America/New_York:20251218T170000
DTEND;TZID=America/New_York:20251218T190000
DTSTAMP:20260420T185755
CREATED:20251215T163545Z
LAST-MODIFIED:20251215T163628Z
UID:10001748-1766077200-1766084400@www.arden-courts.com
SUMMARY:Arden Courts at Sterling Heights: Family Night at Arden Courts
DESCRIPTION:Third Thursday of each month \nRSVP: 586-795-0998 \nDownload Event Info
URL:https://www.arden-courts.com/event/arden-courts-at-sterling-heights-family-night-at-arden-courts/2025-12-18/
CATEGORIES:Sterling Heights
END:VEVENT
BEGIN:VEVENT
DTSTART;TZID=America/New_York:20251023T150000
DTEND;TZID=America/New_York:20251023T170000
DTSTAMP:20260420T185755
CREATED:20251009T181714Z
LAST-MODIFIED:20251009T181714Z
UID:10001420-1761231600-1761238800@www.arden-courts.com
SUMMARY:Arden Courts at Sterling Heights: Fall Flavors\, Warm Connections
DESCRIPTION:Casual fall gathering for our valued referral partners with Oktoberfest inspired treats. \nEvent Location: Sterling Heights Senior Center \nRSVP: 586-795-0998
URL:https://www.arden-courts.com/event/arden-courts-at-sterling-heights-fall-flavors-warm-connections/
CATEGORIES:Sterling Heights
END:VEVENT
BEGIN:VEVENT
DTSTART;TZID=America/New_York:20251013T130000
DTEND;TZID=America/New_York:20251013T140000
DTSTAMP:20260420T185755
CREATED:20251009T181438Z
LAST-MODIFIED:20251009T181438Z
UID:10001417-1760360400-1760364000@www.arden-courts.com
SUMMARY:Arden Courts at Sterling Heights: Persons Living with Dementia Virtual Support Group
DESCRIPTION:Co-host with the Alzheimer’s Association offering a virtual support group for Persons Living With Dementia in the early stages \nEvent Location: Virtual \nRSVP: Pre-assessment and registration helplinegmc@alz.org or 800-272-3900
URL:https://www.arden-courts.com/event/arden-courts-at-sterling-heights-persons-living-with-dementia-virtual-support-group/
CATEGORIES:Sterling Heights
END:VEVENT
END:VCALENDAR