BEGIN:VCALENDAR
VERSION:2.0
PRODID:-//Arden Courts Memory Care  - ECPv6.15.20//NONSGML v1.0//EN
CALSCALE:GREGORIAN
METHOD:PUBLISH
X-WR-CALNAME:Arden Courts Memory Care 
X-ORIGINAL-URL:https://www.arden-courts.com
X-WR-CALDESC:Events for Arden Courts Memory Care 
REFRESH-INTERVAL;VALUE=DURATION:PT1H
X-Robots-Tag:noindex
X-PUBLISHED-TTL:PT1H
BEGIN:VTIMEZONE
TZID:America/New_York
BEGIN:DAYLIGHT
TZOFFSETFROM:-0500
TZOFFSETTO:-0400
TZNAME:EDT
DTSTART:20250309T070000
END:DAYLIGHT
BEGIN:STANDARD
TZOFFSETFROM:-0400
TZOFFSETTO:-0500
TZNAME:EST
DTSTART:20251102T060000
END:STANDARD
BEGIN:DAYLIGHT
TZOFFSETFROM:-0500
TZOFFSETTO:-0400
TZNAME:EDT
DTSTART:20260308T070000
END:DAYLIGHT
BEGIN:STANDARD
TZOFFSETFROM:-0400
TZOFFSETTO:-0500
TZNAME:EST
DTSTART:20261101T060000
END:STANDARD
BEGIN:DAYLIGHT
TZOFFSETFROM:-0500
TZOFFSETTO:-0400
TZNAME:EDT
DTSTART:20270314T070000
END:DAYLIGHT
BEGIN:STANDARD
TZOFFSETFROM:-0400
TZOFFSETTO:-0500
TZNAME:EST
DTSTART:20271107T060000
END:STANDARD
BEGIN:DAYLIGHT
TZOFFSETFROM:-0500
TZOFFSETTO:-0400
TZNAME:EDT
DTSTART:20280312T070000
END:DAYLIGHT
BEGIN:STANDARD
TZOFFSETFROM:-0400
TZOFFSETTO:-0500
TZNAME:EST
DTSTART:20281105T060000
END:STANDARD
END:VTIMEZONE
BEGIN:VEVENT
DTSTART;TZID=America/New_York:20260428T100000
DTEND;TZID=America/New_York:20260428T230000
DTSTAMP:20260421T055255
CREATED:20251009T182439Z
LAST-MODIFIED:20251009T182439Z
UID:10001488-1777370400-1777417200@www.arden-courts.com
SUMMARY:Arden Courts at Whippany: Mem. Care Support Grp
DESCRIPTION:Dementia Support Group \nEvent Location: Notre Dame Church \nRSVP: 862-363-6396 Jeremy.Nachtigall@promedica.org
URL:https://www.arden-courts.com/event/arden-courts-at-whippany-mem-care-support-grp/2026-04-28/
CATEGORIES:Whippany
END:VEVENT
BEGIN:VEVENT
DTSTART;TZID=America/New_York:20260512T100000
DTEND;TZID=America/New_York:20260512T230000
DTSTAMP:20260421T055255
CREATED:20251009T182516Z
LAST-MODIFIED:20251009T182516Z
UID:10001620-1778580000-1778626800@www.arden-courts.com
SUMMARY:Arden Courts at Whippany: Mem. Care Support Grp
DESCRIPTION:Dementia Support Group \nEvent Location: AC Whippany \nRSVP: 862-363-6396 Jeremy.Nachtigall@promedica.org
URL:https://www.arden-courts.com/event/arden-courts-at-whippany-mem-care-support-grp-2/2026-05-12/
CATEGORIES:Whippany
END:VEVENT
BEGIN:VEVENT
DTSTART;TZID=America/New_York:20260526T100000
DTEND;TZID=America/New_York:20260526T230000
DTSTAMP:20260421T055255
CREATED:20251009T182439Z
LAST-MODIFIED:20251009T182439Z
UID:10001489-1779789600-1779836400@www.arden-courts.com
SUMMARY:Arden Courts at Whippany: Mem. Care Support Grp
DESCRIPTION:Dementia Support Group \nEvent Location: Notre Dame Church \nRSVP: 862-363-6396 Jeremy.Nachtigall@promedica.org
URL:https://www.arden-courts.com/event/arden-courts-at-whippany-mem-care-support-grp/2026-05-26/
CATEGORIES:Whippany
END:VEVENT
BEGIN:VEVENT
DTSTART;TZID=America/New_York:20260609T100000
DTEND;TZID=America/New_York:20260609T230000
DTSTAMP:20260421T055255
CREATED:20251009T182516Z
LAST-MODIFIED:20251009T182516Z
UID:10001621-1780999200-1781046000@www.arden-courts.com
SUMMARY:Arden Courts at Whippany: Mem. Care Support Grp
DESCRIPTION:Dementia Support Group \nEvent Location: AC Whippany \nRSVP: 862-363-6396 Jeremy.Nachtigall@promedica.org
URL:https://www.arden-courts.com/event/arden-courts-at-whippany-mem-care-support-grp-2/2026-06-09/
CATEGORIES:Whippany
END:VEVENT
BEGIN:VEVENT
DTSTART;TZID=America/New_York:20260623T100000
DTEND;TZID=America/New_York:20260623T230000
DTSTAMP:20260421T055255
CREATED:20251009T182439Z
LAST-MODIFIED:20251009T182439Z
UID:10001490-1782208800-1782255600@www.arden-courts.com
SUMMARY:Arden Courts at Whippany: Mem. Care Support Grp
DESCRIPTION:Dementia Support Group \nEvent Location: Notre Dame Church \nRSVP: 862-363-6396 Jeremy.Nachtigall@promedica.org
URL:https://www.arden-courts.com/event/arden-courts-at-whippany-mem-care-support-grp/2026-06-23/
CATEGORIES:Whippany
END:VEVENT
BEGIN:VEVENT
DTSTART;TZID=America/New_York:20260707T100000
DTEND;TZID=America/New_York:20260707T230000
DTSTAMP:20260421T055255
CREATED:20251009T182516Z
LAST-MODIFIED:20251009T182516Z
UID:10001622-1783418400-1783465200@www.arden-courts.com
SUMMARY:Arden Courts at Whippany: Mem. Care Support Grp
DESCRIPTION:Dementia Support Group \nEvent Location: AC Whippany \nRSVP: 862-363-6396 Jeremy.Nachtigall@promedica.org
URL:https://www.arden-courts.com/event/arden-courts-at-whippany-mem-care-support-grp-2/2026-07-07/
CATEGORIES:Whippany
END:VEVENT
BEGIN:VEVENT
DTSTART;TZID=America/New_York:20260721T100000
DTEND;TZID=America/New_York:20260721T230000
DTSTAMP:20260421T055255
CREATED:20251009T182439Z
LAST-MODIFIED:20251009T182439Z
UID:10001491-1784628000-1784674800@www.arden-courts.com
SUMMARY:Arden Courts at Whippany: Mem. Care Support Grp
DESCRIPTION:Dementia Support Group \nEvent Location: Notre Dame Church \nRSVP: 862-363-6396 Jeremy.Nachtigall@promedica.org
URL:https://www.arden-courts.com/event/arden-courts-at-whippany-mem-care-support-grp/2026-07-21/
CATEGORIES:Whippany
END:VEVENT
BEGIN:VEVENT
DTSTART;TZID=America/New_York:20260804T100000
DTEND;TZID=America/New_York:20260804T230000
DTSTAMP:20260421T055255
CREATED:20251009T182516Z
LAST-MODIFIED:20251009T182516Z
UID:10001623-1785837600-1785884400@www.arden-courts.com
SUMMARY:Arden Courts at Whippany: Mem. Care Support Grp
DESCRIPTION:Dementia Support Group \nEvent Location: AC Whippany \nRSVP: 862-363-6396 Jeremy.Nachtigall@promedica.org
URL:https://www.arden-courts.com/event/arden-courts-at-whippany-mem-care-support-grp-2/2026-08-04/
CATEGORIES:Whippany
END:VEVENT
BEGIN:VEVENT
DTSTART;TZID=America/New_York:20260818T100000
DTEND;TZID=America/New_York:20260818T230000
DTSTAMP:20260421T055255
CREATED:20251009T182439Z
LAST-MODIFIED:20251009T182439Z
UID:10001492-1787047200-1787094000@www.arden-courts.com
SUMMARY:Arden Courts at Whippany: Mem. Care Support Grp
DESCRIPTION:Dementia Support Group \nEvent Location: Notre Dame Church \nRSVP: 862-363-6396 Jeremy.Nachtigall@promedica.org
URL:https://www.arden-courts.com/event/arden-courts-at-whippany-mem-care-support-grp/2026-08-18/
CATEGORIES:Whippany
END:VEVENT
BEGIN:VEVENT
DTSTART;TZID=America/New_York:20260901T100000
DTEND;TZID=America/New_York:20260901T230000
DTSTAMP:20260421T055255
CREATED:20251009T182516Z
LAST-MODIFIED:20251009T182516Z
UID:10001624-1788256800-1788303600@www.arden-courts.com
SUMMARY:Arden Courts at Whippany: Mem. Care Support Grp
DESCRIPTION:Dementia Support Group \nEvent Location: AC Whippany \nRSVP: 862-363-6396 Jeremy.Nachtigall@promedica.org
URL:https://www.arden-courts.com/event/arden-courts-at-whippany-mem-care-support-grp-2/2026-09-01/
CATEGORIES:Whippany
END:VEVENT
BEGIN:VEVENT
DTSTART;TZID=America/New_York:20260915T100000
DTEND;TZID=America/New_York:20260915T230000
DTSTAMP:20260421T055255
CREATED:20251009T182439Z
LAST-MODIFIED:20251009T182439Z
UID:10001493-1789466400-1789513200@www.arden-courts.com
SUMMARY:Arden Courts at Whippany: Mem. Care Support Grp
DESCRIPTION:Dementia Support Group \nEvent Location: Notre Dame Church \nRSVP: 862-363-6396 Jeremy.Nachtigall@promedica.org
URL:https://www.arden-courts.com/event/arden-courts-at-whippany-mem-care-support-grp/2026-09-15/
CATEGORIES:Whippany
END:VEVENT
BEGIN:VEVENT
DTSTART;TZID=America/New_York:20260929T100000
DTEND;TZID=America/New_York:20260929T230000
DTSTAMP:20260421T055255
CREATED:20251009T182516Z
LAST-MODIFIED:20251009T182516Z
UID:10001625-1790676000-1790722800@www.arden-courts.com
SUMMARY:Arden Courts at Whippany: Mem. Care Support Grp
DESCRIPTION:Dementia Support Group \nEvent Location: AC Whippany \nRSVP: 862-363-6396 Jeremy.Nachtigall@promedica.org
URL:https://www.arden-courts.com/event/arden-courts-at-whippany-mem-care-support-grp-2/2026-09-29/
CATEGORIES:Whippany
END:VEVENT
BEGIN:VEVENT
DTSTART;TZID=America/New_York:20261013T100000
DTEND;TZID=America/New_York:20261013T230000
DTSTAMP:20260421T055255
CREATED:20251009T182439Z
LAST-MODIFIED:20251009T182439Z
UID:10001494-1791885600-1791932400@www.arden-courts.com
SUMMARY:Arden Courts at Whippany: Mem. Care Support Grp
DESCRIPTION:Dementia Support Group \nEvent Location: Notre Dame Church \nRSVP: 862-363-6396 Jeremy.Nachtigall@promedica.org
URL:https://www.arden-courts.com/event/arden-courts-at-whippany-mem-care-support-grp/2026-10-13/
CATEGORIES:Whippany
END:VEVENT
BEGIN:VEVENT
DTSTART;TZID=America/New_York:20261027T100000
DTEND;TZID=America/New_York:20261027T230000
DTSTAMP:20260421T055255
CREATED:20251009T182516Z
LAST-MODIFIED:20251009T182516Z
UID:10001626-1793095200-1793142000@www.arden-courts.com
SUMMARY:Arden Courts at Whippany: Mem. Care Support Grp
DESCRIPTION:Dementia Support Group \nEvent Location: AC Whippany \nRSVP: 862-363-6396 Jeremy.Nachtigall@promedica.org
URL:https://www.arden-courts.com/event/arden-courts-at-whippany-mem-care-support-grp-2/2026-10-27/
CATEGORIES:Whippany
END:VEVENT
BEGIN:VEVENT
DTSTART;TZID=America/New_York:20261110T100000
DTEND;TZID=America/New_York:20261110T230000
DTSTAMP:20260421T055255
CREATED:20251009T182439Z
LAST-MODIFIED:20251009T182439Z
UID:10001495-1794304800-1794351600@www.arden-courts.com
SUMMARY:Arden Courts at Whippany: Mem. Care Support Grp
DESCRIPTION:Dementia Support Group \nEvent Location: Notre Dame Church \nRSVP: 862-363-6396 Jeremy.Nachtigall@promedica.org
URL:https://www.arden-courts.com/event/arden-courts-at-whippany-mem-care-support-grp/2026-11-10/
CATEGORIES:Whippany
END:VEVENT
BEGIN:VEVENT
DTSTART;TZID=America/New_York:20261124T100000
DTEND;TZID=America/New_York:20261124T230000
DTSTAMP:20260421T055255
CREATED:20251009T182516Z
LAST-MODIFIED:20251009T182516Z
UID:10001627-1795514400-1795561200@www.arden-courts.com
SUMMARY:Arden Courts at Whippany: Mem. Care Support Grp
DESCRIPTION:Dementia Support Group \nEvent Location: AC Whippany \nRSVP: 862-363-6396 Jeremy.Nachtigall@promedica.org
URL:https://www.arden-courts.com/event/arden-courts-at-whippany-mem-care-support-grp-2/2026-11-24/
CATEGORIES:Whippany
END:VEVENT
BEGIN:VEVENT
DTSTART;TZID=America/New_York:20261208T100000
DTEND;TZID=America/New_York:20261208T230000
DTSTAMP:20260421T055255
CREATED:20251009T182439Z
LAST-MODIFIED:20251009T182439Z
UID:10001496-1796724000-1796770800@www.arden-courts.com
SUMMARY:Arden Courts at Whippany: Mem. Care Support Grp
DESCRIPTION:Dementia Support Group \nEvent Location: Notre Dame Church \nRSVP: 862-363-6396 Jeremy.Nachtigall@promedica.org
URL:https://www.arden-courts.com/event/arden-courts-at-whippany-mem-care-support-grp/2026-12-08/
CATEGORIES:Whippany
END:VEVENT
BEGIN:VEVENT
DTSTART;TZID=America/New_York:20261222T100000
DTEND;TZID=America/New_York:20261222T230000
DTSTAMP:20260421T055255
CREATED:20251009T182516Z
LAST-MODIFIED:20251009T182516Z
UID:10001628-1797933600-1797980400@www.arden-courts.com
SUMMARY:Arden Courts at Whippany: Mem. Care Support Grp
DESCRIPTION:Dementia Support Group \nEvent Location: AC Whippany \nRSVP: 862-363-6396 Jeremy.Nachtigall@promedica.org
URL:https://www.arden-courts.com/event/arden-courts-at-whippany-mem-care-support-grp-2/2026-12-22/
CATEGORIES:Whippany
END:VEVENT
BEGIN:VEVENT
DTSTART;TZID=America/New_York:20270105T100000
DTEND;TZID=America/New_York:20270105T230000
DTSTAMP:20260421T055255
CREATED:20251009T182439Z
LAST-MODIFIED:20251009T182439Z
UID:10001497-1799143200-1799190000@www.arden-courts.com
SUMMARY:Arden Courts at Whippany: Mem. Care Support Grp
DESCRIPTION:Dementia Support Group \nEvent Location: Notre Dame Church \nRSVP: 862-363-6396 Jeremy.Nachtigall@promedica.org
URL:https://www.arden-courts.com/event/arden-courts-at-whippany-mem-care-support-grp/2027-01-05/
CATEGORIES:Whippany
END:VEVENT
BEGIN:VEVENT
DTSTART;TZID=America/New_York:20270119T100000
DTEND;TZID=America/New_York:20270119T230000
DTSTAMP:20260421T055255
CREATED:20251009T182516Z
LAST-MODIFIED:20251009T182516Z
UID:10001629-1800352800-1800399600@www.arden-courts.com
SUMMARY:Arden Courts at Whippany: Mem. Care Support Grp
DESCRIPTION:Dementia Support Group \nEvent Location: AC Whippany \nRSVP: 862-363-6396 Jeremy.Nachtigall@promedica.org
URL:https://www.arden-courts.com/event/arden-courts-at-whippany-mem-care-support-grp-2/2027-01-19/
CATEGORIES:Whippany
END:VEVENT
BEGIN:VEVENT
DTSTART;TZID=America/New_York:20270202T100000
DTEND;TZID=America/New_York:20270202T230000
DTSTAMP:20260421T055255
CREATED:20251009T182439Z
LAST-MODIFIED:20251009T182439Z
UID:10001498-1801562400-1801609200@www.arden-courts.com
SUMMARY:Arden Courts at Whippany: Mem. Care Support Grp
DESCRIPTION:Dementia Support Group \nEvent Location: Notre Dame Church \nRSVP: 862-363-6396 Jeremy.Nachtigall@promedica.org
URL:https://www.arden-courts.com/event/arden-courts-at-whippany-mem-care-support-grp/2027-02-02/
CATEGORIES:Whippany
END:VEVENT
BEGIN:VEVENT
DTSTART;TZID=America/New_York:20270216T100000
DTEND;TZID=America/New_York:20270216T230000
DTSTAMP:20260421T055255
CREATED:20251009T182516Z
LAST-MODIFIED:20251009T182516Z
UID:10001630-1802772000-1802818800@www.arden-courts.com
SUMMARY:Arden Courts at Whippany: Mem. Care Support Grp
DESCRIPTION:Dementia Support Group \nEvent Location: AC Whippany \nRSVP: 862-363-6396 Jeremy.Nachtigall@promedica.org
URL:https://www.arden-courts.com/event/arden-courts-at-whippany-mem-care-support-grp-2/2027-02-16/
CATEGORIES:Whippany
END:VEVENT
BEGIN:VEVENT
DTSTART;TZID=America/New_York:20270302T100000
DTEND;TZID=America/New_York:20270302T230000
DTSTAMP:20260421T055255
CREATED:20251009T182439Z
LAST-MODIFIED:20251009T182439Z
UID:10001499-1803981600-1804028400@www.arden-courts.com
SUMMARY:Arden Courts at Whippany: Mem. Care Support Grp
DESCRIPTION:Dementia Support Group \nEvent Location: Notre Dame Church \nRSVP: 862-363-6396 Jeremy.Nachtigall@promedica.org
URL:https://www.arden-courts.com/event/arden-courts-at-whippany-mem-care-support-grp/2027-03-02/
CATEGORIES:Whippany
END:VEVENT
BEGIN:VEVENT
DTSTART;TZID=America/New_York:20270316T100000
DTEND;TZID=America/New_York:20270316T230000
DTSTAMP:20260421T055255
CREATED:20251009T182516Z
LAST-MODIFIED:20251009T182516Z
UID:10001631-1805191200-1805238000@www.arden-courts.com
SUMMARY:Arden Courts at Whippany: Mem. Care Support Grp
DESCRIPTION:Dementia Support Group \nEvent Location: AC Whippany \nRSVP: 862-363-6396 Jeremy.Nachtigall@promedica.org
URL:https://www.arden-courts.com/event/arden-courts-at-whippany-mem-care-support-grp-2/2027-03-16/
CATEGORIES:Whippany
END:VEVENT
BEGIN:VEVENT
DTSTART;TZID=America/New_York:20270330T100000
DTEND;TZID=America/New_York:20270330T230000
DTSTAMP:20260421T055255
CREATED:20251009T182439Z
LAST-MODIFIED:20251009T182439Z
UID:10001500-1806400800-1806447600@www.arden-courts.com
SUMMARY:Arden Courts at Whippany: Mem. Care Support Grp
DESCRIPTION:Dementia Support Group \nEvent Location: Notre Dame Church \nRSVP: 862-363-6396 Jeremy.Nachtigall@promedica.org
URL:https://www.arden-courts.com/event/arden-courts-at-whippany-mem-care-support-grp/2027-03-30/
CATEGORIES:Whippany
END:VEVENT
BEGIN:VEVENT
DTSTART;TZID=America/New_York:20270413T100000
DTEND;TZID=America/New_York:20270413T230000
DTSTAMP:20260421T055255
CREATED:20251009T182516Z
LAST-MODIFIED:20251009T182516Z
UID:10001632-1807610400-1807657200@www.arden-courts.com
SUMMARY:Arden Courts at Whippany: Mem. Care Support Grp
DESCRIPTION:Dementia Support Group \nEvent Location: AC Whippany \nRSVP: 862-363-6396 Jeremy.Nachtigall@promedica.org
URL:https://www.arden-courts.com/event/arden-courts-at-whippany-mem-care-support-grp-2/2027-04-13/
CATEGORIES:Whippany
END:VEVENT
BEGIN:VEVENT
DTSTART;TZID=America/New_York:20270427T100000
DTEND;TZID=America/New_York:20270427T230000
DTSTAMP:20260421T055255
CREATED:20251009T182439Z
LAST-MODIFIED:20251009T182439Z
UID:10001501-1808820000-1808866800@www.arden-courts.com
SUMMARY:Arden Courts at Whippany: Mem. Care Support Grp
DESCRIPTION:Dementia Support Group \nEvent Location: Notre Dame Church \nRSVP: 862-363-6396 Jeremy.Nachtigall@promedica.org
URL:https://www.arden-courts.com/event/arden-courts-at-whippany-mem-care-support-grp/2027-04-27/
CATEGORIES:Whippany
END:VEVENT
BEGIN:VEVENT
DTSTART;TZID=America/New_York:20270511T100000
DTEND;TZID=America/New_York:20270511T230000
DTSTAMP:20260421T055255
CREATED:20251009T182516Z
LAST-MODIFIED:20251009T182516Z
UID:10001633-1810029600-1810076400@www.arden-courts.com
SUMMARY:Arden Courts at Whippany: Mem. Care Support Grp
DESCRIPTION:Dementia Support Group \nEvent Location: AC Whippany \nRSVP: 862-363-6396 Jeremy.Nachtigall@promedica.org
URL:https://www.arden-courts.com/event/arden-courts-at-whippany-mem-care-support-grp-2/2027-05-11/
CATEGORIES:Whippany
END:VEVENT
BEGIN:VEVENT
DTSTART;TZID=America/New_York:20270525T100000
DTEND;TZID=America/New_York:20270525T230000
DTSTAMP:20260421T055255
CREATED:20251009T182439Z
LAST-MODIFIED:20251009T182439Z
UID:10001502-1811239200-1811286000@www.arden-courts.com
SUMMARY:Arden Courts at Whippany: Mem. Care Support Grp
DESCRIPTION:Dementia Support Group \nEvent Location: Notre Dame Church \nRSVP: 862-363-6396 Jeremy.Nachtigall@promedica.org
URL:https://www.arden-courts.com/event/arden-courts-at-whippany-mem-care-support-grp/2027-05-25/
CATEGORIES:Whippany
END:VEVENT
BEGIN:VEVENT
DTSTART;TZID=America/New_York:20270608T100000
DTEND;TZID=America/New_York:20270608T230000
DTSTAMP:20260421T055255
CREATED:20251009T182516Z
LAST-MODIFIED:20251009T182516Z
UID:10001634-1812448800-1812495600@www.arden-courts.com
SUMMARY:Arden Courts at Whippany: Mem. Care Support Grp
DESCRIPTION:Dementia Support Group \nEvent Location: AC Whippany \nRSVP: 862-363-6396 Jeremy.Nachtigall@promedica.org
URL:https://www.arden-courts.com/event/arden-courts-at-whippany-mem-care-support-grp-2/2027-06-08/
CATEGORIES:Whippany
END:VEVENT
END:VCALENDAR